BEGIN:VCALENDAR
VERSION:2.0
PRODID:-//Goldbank/EPL//NONSGML v1.0//EN
METHOD:PUBLISH
BEGIN:VEVENT
DTSTART:20210227T100000
DTEND:20210227T103000
LOCATION:2/300 Corrigan Road Keysborough, VIC 3173
URL:http://cranbourne.goldbankgroup.com.au/property/2-300-corrigan-road-keysborough-vic-3173/
TRANSP:OPAQUE
SEQUENCE:0
UID:2115021614460627
DTSTAMP:20210227T211707Z
SUMMARY:Inspection Time - Something Special for Someone Special!
DESCRIPTION:Pairing a spacious floor plan with a generous yard\, this two bedroom unit on a block measuring 326m2 approx is a standout property amongst its kind. Move straight in\, refresh the interiors to add you own personal style or simply invest and rest\, the choice is yours!\nWarm hardwood floorboards adorn the practical interiors offering a large living room\, separate kitchen and meals areas\, two robed bedrooms\, a central bathroom\, separate WC and laundry. Completing this homely package is a fully fenced yard with a low maintenance garden to provide private outdoor space\, a single carport and room for additional off street parking.\nAs well as a peaceful position at the rear of the block\, this villa enjoys a convenient location across the road from Kingsclere Shopping Centre\, walking distance to Alan Corrigan Reserve\, Roth Hetherington Botanical Native Gardens\, Corrigan Rex Preschool and three primary schools plus a bus stop at your doorstep\, only minutes to Noble Park Train Station and easy access to Eastlink and the Dandenong Bypass.\n&#x2022\; Secure and private two bedroom villa unit with generous yard\n&#x2022\; Large living room\, separate kitchen and meals areas\, central bathroom\, separate WC and laundry\n&#x2022\; Timber floorboards\, neutral interiors and built in robes\n&#x2022\; Private courtyard with low maintenance garden\, single carport and additional off street parking\n&#x2022\; Across the road from shops\, walking distance to parks and schools and only minutes to transport links.\n\nIf this sounds like it could be the one for you then call Sam Singh on 0403 134 009 or Manu Sandhu 0423 298 350 to discuss your own private appointment.\n\nGoldbank Team welcomes you and looks forward to meeting you at a private inspection.\n\n(PHOTO ID REQUIRED AT OPEN FOR INSPECTION)\n\nNOTE: link for Due Diligence Checklist:\nhttp://www.consumer.vic.gov.au/duediligencechecklist\n\n\nDisclaimer: All dimensions\, sizes and layout are approximately. The photos are for illustrative purposes only and  include virtual furniture for display purposes only.
PRIORITY:1
CLASS:PUBLIC
BEGIN:VALARM
TRIGGER:-PT10080M
ACTION:DISPLAY
DESCRIPTION:Reminder
END:VALARM
END:VEVENT
END:VCALENDAR
