BEGIN:VCALENDAR
VERSION:2.0
PRODID:-//Goldbank/EPL//NONSGML v1.0//EN
METHOD:PUBLISH
BEGIN:VEVENT
DTSTART:20210227T110000
DTEND:20210227T113000
LOCATION:9 Belmont Road Berwick, VIC 3806
URL:http://cranbourne.goldbankgroup.com.au/property/9-belmont-road-berwick-vic-3806/
TRANSP:OPAQUE
SEQUENCE:0
UID:2114621614460852
DTSTAMP:20210227T212052Z
SUMMARY:Inspection Time - Character Filled Residence In The Heart Of Berwick !
DESCRIPTION:Breathtaking with attentive modern details\, carefully crafted design and opulent style that places a tremendous emphasis on absolute quality\, this stunning 4 generous sized bedrooms\, 2 bathrooms and 3 living areas astonishing residence is the pinnacle of luxurious and spacious living. \n\nThis modern yet timeless designed single storey 4 -bedroom\, 2-bathroom home is comprehensively appointed with stunning above standard finishes with an emphasis on open living for a sophisticated low-maintenance lifestyle.\n\nPrimed for all stages of family life\, three living zones include an extended theatre room perfect for your weekly movie nights. Spacious open plan living and dining zone. And a functional study room with a desk\, a must have for those working or studying from home. A domain for any season\, the fabulous outdoor entertaining area.\n\nA modern and impressive designer kitchen with gas cook top\, SS appliances\, glass splashback\, range hood\, dishwasher and a built in pantry and plenty of storage space.\n\nMaster bedroom is privately located at the front with walk in robes and en-suite & SPA. Additional three bedrooms promise excellent space and built-in robes including the central bathroom and separate toilet.\n\nYou'll love the exceptional outdoor space that surrounds this dwelling which is accessible via the family room. This outdoor alfresco area is ideal for entertaining friends and family in summer.\n\nOther property features include a laundry with easy access to the house external\, gas ducted heating\, split system air-conditioner\, ducted heating\, double remote controlled garage and secured alarm system \n\nSituated in an outstanding location in Berwick's most sought  " The Chase" where families looking to live the dream\, close to Berwick Chase Primary\, Kambrya College\, Eden Rise Shopping Village\, parkland\, transport plus the M1 Freeway.\n\nCall Sam Singh on 0403 134 009 or Tarun Aulakh on 0426 822 720 to discuss further.\n\nNOTE:\n* Link for Due Diligence Checklist: http://www.consumer.vic.gov.au/duediligencechecklist\n\n* All dimensions\, sizes and layouts are approximate. The producer or agent cannot be held responsible for any errors\, omissions or misstatements. The plan is for Illustrative purposes only and should be used as such.
PRIORITY:1
CLASS:PUBLIC
BEGIN:VALARM
TRIGGER:-PT10080M
ACTION:DISPLAY
DESCRIPTION:Reminder
END:VALARM
END:VEVENT
END:VCALENDAR
