BEGIN:VCALENDAR
VERSION:2.0
PRODID:-//Goldbank/EPL//NONSGML v1.0//EN
METHOD:PUBLISH
BEGIN:VEVENT
DTSTART:20210227T120000
DTEND:20210227T123000
LOCATION:79 Bernly Boulevard Berwick, VIC 3806
URL:http://cranbourne.goldbankgroup.com.au/property/79-bernly-boulevard-berwick-vic-3806/
TRANSP:OPAQUE
SEQUENCE:0
UID:2106791614461338
DTSTAMP:20210227T212858Z
SUMMARY:Inspection Time - Luxury, Lifestyle and Convenience on a Grand Scale
DESCRIPTION:Offering a stunning display of contemporary class and sophisticated elegance\, this impeccable family home is located in well sought-after quiet pocket of Berwick.  Designed for an indoor-outdoor entertainer's lifestyle\, this home adds new meaning to 'luxury living'. \n\nAn ideal floorplan for many family configurations &#x2013\; a downstairs bedroom with full bathroom can accommodate teenagers\, in-laws or guests. This home comprises of five spacious bedrooms with built in robes and their own ensuite\, formal living and family and dining area\, upstairs rumpus room\, huge open plan living/meals area and large undercover alfresco area. \nThe Kitchen is a cook's dream with ample storage\, stainless steel appliances\, fridge\, double oven\, dishwasher\, large walk in pantry and generous bench space including a bench that can double as a breakfast bar. Additional extras of this house include ducted refrigerated cooling and heating\, Italian tiles\, gas log fireplace\, solar panels\,\n\nIts Balinese inspired\, well-manicured garden with designer water feature\, Balinese hut\, fish pond and much more provide perfect setting for any family gathering. \n\nGiven its spacious land size \, it is perfectly suited for home office options.\n\nLocated just moments from Berwick Chase Primary\, Haileybury Berwick\, St Margaret & Berwick Grammar School\, Eden Rise Shopping Centre and M1 freeway access.\n\nGoldbank Team welcomes you and looks forward to meeting you at the open home inspections.. \n\n(PHOTO ID REQUIRED AT PRIVATE INSPECTION)  \n\nNOTE: link for Due Diligence Checklist: \nhttp://www.consumer.vic.gov.au/duediligencechecklist\n\nDisclaimer: All dimensions\, sizes and layout are approximately.  The producer or agent cannot be held responsible for any errors\, omissions or misstatements.  The photos are for illustrative purposes only and should be used as such.
PRIORITY:1
CLASS:PUBLIC
BEGIN:VALARM
TRIGGER:-PT10080M
ACTION:DISPLAY
DESCRIPTION:Reminder
END:VALARM
END:VEVENT
END:VCALENDAR
