BEGIN:VCALENDAR
VERSION:2.0
PRODID:-//Goldbank/EPL//NONSGML v1.0//EN
METHOD:PUBLISH
BEGIN:VEVENT
DTSTART:20210227T120000
DTEND:20210227T123000
LOCATION:35 Turella Close Berwick, VIC 3806
URL:http://cranbourne.goldbankgroup.com.au/property/35-turella-close-berwick-vic-3806/
TRANSP:OPAQUE
SEQUENCE:0
UID:2111671614461132
DTSTAMP:20210227T212532Z
SUMMARY:Inspection Time - Grand Family Living !!!
DESCRIPTION:Situated in one of Berwick's most sought-after pockets\, this double story Henley home is perfect for the large Family. \n\nAs you walk in\, you quickly realize the open space living with a wide entrance and a long hallway that takes you all the way to dining. Featuring a massive grand living area at the entrance of the home\, separate theatre and a massive living with dining area. This home accommodates 4 spacious bedrooms plus a downstairs bedroom that can accommodate teenagers\, in laws and guests. 3 bathrooms and a Large Kitchen with a Pantry.\n\nNestled in a peaceful courtyard spot\, this family home is ideal for all your family configurations. The upper level offers luxury living\, with penthouse style grand master suite with His and Her's WIR\, en-suite with separate toilet\, twin basins and a luxury spa bath. The three remaining bedrooms are generous in size with built-in robes. \n\nThis home has an expansive living/dining room\, all across from the chef's kitchen\, featuring stainless steel appliances including a 900mil cooktop\, range hood\, dishwasher and a double bowl sink that has plenty of cupboard and a pantry space.\n\nStepping out of your house\, you're provided with a long\, large alfresco that's waiting for your family's BBQ and warm summer days. Concreted pathways all around the house with a double garage and internal access from inside.\n\nOther amenities also include both evaporative cooling and ducted heating systems.\n\n\nCall Mehdi or Sam to book your private inspection today!\n\nGoldbank TEAM Welcomes you and looks forward to meeting you at a private inspection.\n\nPLEASE NOTE: PRESENTATION OF PHOTO I.D. IS A CONDITION OF ENTRY TO VIEW PROPERTY\n\n\nLink for Due Diligence Checklist\nhttp://www.consumer.vic.gov.au/duediligencechecklist
PRIORITY:1
CLASS:PUBLIC
BEGIN:VALARM
TRIGGER:-PT10080M
ACTION:DISPLAY
DESCRIPTION:Reminder
END:VALARM
END:VEVENT
END:VCALENDAR
